BEGIN:VCALENDAR
VERSION:2.0
PRODID:-//Jewish Family Service of the Desert - ECPv6.15.20//NONSGML v1.0//EN
CALSCALE:GREGORIAN
METHOD:PUBLISH
X-ORIGINAL-URL:https://jfsdesert.org
X-WR-CALDESC:Events for Jewish Family Service of the Desert
REFRESH-INTERVAL;VALUE=DURATION:PT1H
X-Robots-Tag:noindex
X-PUBLISHED-TTL:PT1H
BEGIN:VTIMEZONE
TZID:America/Los_Angeles
BEGIN:DAYLIGHT
TZOFFSETFROM:-0800
TZOFFSETTO:-0700
TZNAME:PDT
DTSTART:20220313T100000
END:DAYLIGHT
BEGIN:STANDARD
TZOFFSETFROM:-0700
TZOFFSETTO:-0800
TZNAME:PST
DTSTART:20221106T090000
END:STANDARD
BEGIN:DAYLIGHT
TZOFFSETFROM:-0800
TZOFFSETTO:-0700
TZNAME:PDT
DTSTART:20230312T100000
END:DAYLIGHT
BEGIN:STANDARD
TZOFFSETFROM:-0700
TZOFFSETTO:-0800
TZNAME:PST
DTSTART:20231105T090000
END:STANDARD
BEGIN:DAYLIGHT
TZOFFSETFROM:-0800
TZOFFSETTO:-0700
TZNAME:PDT
DTSTART:20240310T100000
END:DAYLIGHT
BEGIN:STANDARD
TZOFFSETFROM:-0700
TZOFFSETTO:-0800
TZNAME:PST
DTSTART:20241103T090000
END:STANDARD
BEGIN:DAYLIGHT
TZOFFSETFROM:-0800
TZOFFSETTO:-0700
TZNAME:PDT
DTSTART:20250309T100000
END:DAYLIGHT
BEGIN:STANDARD
TZOFFSETFROM:-0700
TZOFFSETTO:-0800
TZNAME:PST
DTSTART:20251102T090000
END:STANDARD
BEGIN:DAYLIGHT
TZOFFSETFROM:-0800
TZOFFSETTO:-0700
TZNAME:PDT
DTSTART:20260308T100000
END:DAYLIGHT
BEGIN:STANDARD
TZOFFSETFROM:-0700
TZOFFSETTO:-0800
TZNAME:PST
DTSTART:20261101T090000
END:STANDARD
BEGIN:DAYLIGHT
TZOFFSETFROM:-0800
TZOFFSETTO:-0700
TZNAME:PDT
DTSTART:20270314T100000
END:DAYLIGHT
BEGIN:STANDARD
TZOFFSETFROM:-0700
TZOFFSETTO:-0800
TZNAME:PST
DTSTART:20271107T090000
END:STANDARD
END:VTIMEZONE
BEGIN:VEVENT
DTSTART;TZID=America/Los_Angeles:20260417T130000
DTEND;TZID=America/Los_Angeles:20260417T150000
DTSTAMP:20260424T123236
CREATED:20230603T010052Z
LAST-MODIFIED:20260203T164907Z
UID:10000521-1776430800-1776438000@jfsdesert.org
SUMMARY:Let’s Do Lunch! at Cathedral City Senior Center
DESCRIPTION:Let’s Do Lunch! is a senior social activity program that encourages socialization through regularly scheduled “gatherings” where participants engage in a myriad of activities — lectures\, workshops\, art projects\, films\, brain games\, exercise\, and live entertainment. \nRegistration is required for the Let’s Do Lunch! program\, please contact Savannah Ortega at sortega@jfsdesert.org or 760-325-4088 ext. 123 to register. \nWe look forward to seeing you there!
URL:https://jfsdesert.org/event/lets-do-lunch-at-cathedral-city-senior-center-3/2026-04-17/
LOCATION:Cathedral City Senior Center\, 37171 W Buddy Rogers Avenue\, Cathedral City\, CA\, 92234\, United States
CATEGORIES:Let's Do Lunch!
ATTACH;FMTTYPE=image/jpeg:https://jfsdesert.org/wp-content/uploads/2019/06/Image-Senior-Lunch-760-x-525.jpg
ORGANIZER;CN="Savannah Ortega":MAILTO:sortega@jfsdesert.org
END:VEVENT
BEGIN:VEVENT
DTSTART;TZID=America/Los_Angeles:20260403T130000
DTEND;TZID=America/Los_Angeles:20260403T150000
DTSTAMP:20260424T123236
CREATED:20230603T010052Z
LAST-MODIFIED:20260203T164907Z
UID:10000520-1775221200-1775228400@jfsdesert.org
SUMMARY:Let’s Do Lunch! at Cathedral City Senior Center
DESCRIPTION:Let’s Do Lunch! is a senior social activity program that encourages socialization through regularly scheduled “gatherings” where participants engage in a myriad of activities — lectures\, workshops\, art projects\, films\, brain games\, exercise\, and live entertainment. \nRegistration is required for the Let’s Do Lunch! program\, please contact Savannah Ortega at sortega@jfsdesert.org or 760-325-4088 ext. 123 to register. \nWe look forward to seeing you there!
URL:https://jfsdesert.org/event/lets-do-lunch-at-cathedral-city-senior-center-3/2026-04-03/
LOCATION:Cathedral City Senior Center\, 37171 W Buddy Rogers Avenue\, Cathedral City\, CA\, 92234\, United States
CATEGORIES:Let's Do Lunch!
ATTACH;FMTTYPE=image/jpeg:https://jfsdesert.org/wp-content/uploads/2019/06/Image-Senior-Lunch-760-x-525.jpg
ORGANIZER;CN="Savannah Ortega":MAILTO:sortega@jfsdesert.org
END:VEVENT
BEGIN:VEVENT
DTSTART;TZID=America/Los_Angeles:20260320T130000
DTEND;TZID=America/Los_Angeles:20260320T150000
DTSTAMP:20260424T123236
CREATED:20230603T010052Z
LAST-MODIFIED:20260203T164907Z
UID:10000519-1774011600-1774018800@jfsdesert.org
SUMMARY:Let’s Do Lunch! at Cathedral City Senior Center
DESCRIPTION:Let’s Do Lunch! is a senior social activity program that encourages socialization through regularly scheduled “gatherings” where participants engage in a myriad of activities — lectures\, workshops\, art projects\, films\, brain games\, exercise\, and live entertainment. \nRegistration is required for the Let’s Do Lunch! program\, please contact Savannah Ortega at sortega@jfsdesert.org or 760-325-4088 ext. 123 to register. \nWe look forward to seeing you there!
URL:https://jfsdesert.org/event/lets-do-lunch-at-cathedral-city-senior-center-3/2026-03-20/
LOCATION:Cathedral City Senior Center\, 37171 W Buddy Rogers Avenue\, Cathedral City\, CA\, 92234\, United States
CATEGORIES:Let's Do Lunch!
ATTACH;FMTTYPE=image/jpeg:https://jfsdesert.org/wp-content/uploads/2019/06/Image-Senior-Lunch-760-x-525.jpg
ORGANIZER;CN="Savannah Ortega":MAILTO:sortega@jfsdesert.org
END:VEVENT
BEGIN:VEVENT
DTSTART;TZID=America/Los_Angeles:20260306T130000
DTEND;TZID=America/Los_Angeles:20260306T150000
DTSTAMP:20260424T123236
CREATED:20230603T010052Z
LAST-MODIFIED:20260203T164907Z
UID:10000518-1772802000-1772809200@jfsdesert.org
SUMMARY:Let’s Do Lunch! at Cathedral City Senior Center
DESCRIPTION:Let’s Do Lunch! is a senior social activity program that encourages socialization through regularly scheduled “gatherings” where participants engage in a myriad of activities — lectures\, workshops\, art projects\, films\, brain games\, exercise\, and live entertainment. \nRegistration is required for the Let’s Do Lunch! program\, please contact Savannah Ortega at sortega@jfsdesert.org or 760-325-4088 ext. 123 to register. \nWe look forward to seeing you there!
URL:https://jfsdesert.org/event/lets-do-lunch-at-cathedral-city-senior-center-3/2026-03-06/
LOCATION:Cathedral City Senior Center\, 37171 W Buddy Rogers Avenue\, Cathedral City\, CA\, 92234\, United States
CATEGORIES:Let's Do Lunch!
ATTACH;FMTTYPE=image/jpeg:https://jfsdesert.org/wp-content/uploads/2019/06/Image-Senior-Lunch-760-x-525.jpg
ORGANIZER;CN="Savannah Ortega":MAILTO:sortega@jfsdesert.org
END:VEVENT
BEGIN:VEVENT
DTSTART;TZID=America/Los_Angeles:20260220T130000
DTEND;TZID=America/Los_Angeles:20260220T150000
DTSTAMP:20260424T123236
CREATED:20230603T010052Z
LAST-MODIFIED:20260203T164907Z
UID:10000451-1771592400-1771599600@jfsdesert.org
SUMMARY:Let’s Do Lunch! at Cathedral City Senior Center
DESCRIPTION:Let’s Do Lunch! is a senior social activity program that encourages socialization through regularly scheduled “gatherings” where participants engage in a myriad of activities — lectures\, workshops\, art projects\, films\, brain games\, exercise\, and live entertainment. \nRegistration is required for the Let’s Do Lunch! program\, please contact Savannah Ortega at sortega@jfsdesert.org or 760-325-4088 ext. 123 to register. \nWe look forward to seeing you there!
URL:https://jfsdesert.org/event/lets-do-lunch-at-cathedral-city-senior-center-3/2026-02-20/
LOCATION:Cathedral City Senior Center\, 37171 W Buddy Rogers Avenue\, Cathedral City\, CA\, 92234\, United States
CATEGORIES:Let's Do Lunch!
ATTACH;FMTTYPE=image/jpeg:https://jfsdesert.org/wp-content/uploads/2019/06/Image-Senior-Lunch-760-x-525.jpg
ORGANIZER;CN="Savannah Ortega":MAILTO:sortega@jfsdesert.org
END:VEVENT
BEGIN:VEVENT
DTSTART;TZID=America/Los_Angeles:20260206T130000
DTEND;TZID=America/Los_Angeles:20260206T150000
DTSTAMP:20260424T123236
CREATED:20230603T010052Z
LAST-MODIFIED:20260203T164907Z
UID:10000450-1770382800-1770390000@jfsdesert.org
SUMMARY:Let’s Do Lunch! at Cathedral City Senior Center
DESCRIPTION:Let’s Do Lunch! is a senior social activity program that encourages socialization through regularly scheduled “gatherings” where participants engage in a myriad of activities — lectures\, workshops\, art projects\, films\, brain games\, exercise\, and live entertainment. \nRegistration is required for the Let’s Do Lunch! program\, please contact Savannah Ortega at sortega@jfsdesert.org or 760-325-4088 ext. 123 to register. \nWe look forward to seeing you there!
URL:https://jfsdesert.org/event/lets-do-lunch-at-cathedral-city-senior-center-3/2026-02-06/
LOCATION:Cathedral City Senior Center\, 37171 W Buddy Rogers Avenue\, Cathedral City\, CA\, 92234\, United States
CATEGORIES:Let's Do Lunch!
ATTACH;FMTTYPE=image/jpeg:https://jfsdesert.org/wp-content/uploads/2019/06/Image-Senior-Lunch-760-x-525.jpg
ORGANIZER;CN="Savannah Ortega":MAILTO:sortega@jfsdesert.org
END:VEVENT
BEGIN:VEVENT
DTSTART;TZID=America/Los_Angeles:20260116T130000
DTEND;TZID=America/Los_Angeles:20260116T150000
DTSTAMP:20260424T123236
CREATED:20230603T010052Z
LAST-MODIFIED:20260203T164907Z
UID:10000461-1768568400-1768575600@jfsdesert.org
SUMMARY:Let’s Do Lunch! at Cathedral City Senior Center
DESCRIPTION:Let’s Do Lunch! is a senior social activity program that encourages socialization through regularly scheduled “gatherings” where participants engage in a myriad of activities — lectures\, workshops\, art projects\, films\, brain games\, exercise\, and live entertainment. \nRegistration is required for the Let’s Do Lunch! program\, please contact Savannah Ortega at sortega@jfsdesert.org or 760-325-4088 ext. 123 to register. \nWe look forward to seeing you there!
URL:https://jfsdesert.org/event/lets-do-lunch-at-cathedral-city-senior-center-3/2026-01-16/
LOCATION:Cathedral City Senior Center\, 37171 W Buddy Rogers Avenue\, Cathedral City\, CA\, 92234\, United States
CATEGORIES:Let's Do Lunch!
ATTACH;FMTTYPE=image/jpeg:https://jfsdesert.org/wp-content/uploads/2019/06/Image-Senior-Lunch-760-x-525.jpg
ORGANIZER;CN="Savannah Ortega":MAILTO:sortega@jfsdesert.org
END:VEVENT
BEGIN:VEVENT
DTSTART;TZID=America/Los_Angeles:20260102T130000
DTEND;TZID=America/Los_Angeles:20260102T150000
DTSTAMP:20260424T123236
CREATED:20230603T010052Z
LAST-MODIFIED:20260203T164907Z
UID:10000460-1767358800-1767366000@jfsdesert.org
SUMMARY:Let’s Do Lunch! at Cathedral City Senior Center
DESCRIPTION:Let’s Do Lunch! is a senior social activity program that encourages socialization through regularly scheduled “gatherings” where participants engage in a myriad of activities — lectures\, workshops\, art projects\, films\, brain games\, exercise\, and live entertainment. \nRegistration is required for the Let’s Do Lunch! program\, please contact Savannah Ortega at sortega@jfsdesert.org or 760-325-4088 ext. 123 to register. \nWe look forward to seeing you there!
URL:https://jfsdesert.org/event/lets-do-lunch-at-cathedral-city-senior-center-3/2026-01-02/
LOCATION:Cathedral City Senior Center\, 37171 W Buddy Rogers Avenue\, Cathedral City\, CA\, 92234\, United States
CATEGORIES:Let's Do Lunch!
ATTACH;FMTTYPE=image/jpeg:https://jfsdesert.org/wp-content/uploads/2019/06/Image-Senior-Lunch-760-x-525.jpg
ORGANIZER;CN="Savannah Ortega":MAILTO:sortega@jfsdesert.org
END:VEVENT
BEGIN:VEVENT
DTSTART;TZID=America/Los_Angeles:20251219T123000
DTEND;TZID=America/Los_Angeles:20251219T143000
DTSTAMP:20260424T123236
CREATED:20230603T010052Z
LAST-MODIFIED:20260203T164907Z
UID:10000403-1766147400-1766154600@jfsdesert.org
SUMMARY:Let’s Do Lunch! at Cathedral City Senior Center
DESCRIPTION:Let’s Do Lunch! is a senior social activity program that encourages socialization through regularly scheduled “gatherings” where participants engage in a myriad of activities — lectures\, workshops\, art projects\, films\, brain games\, exercise\, and live entertainment. \nRegistration is required for the Let’s Do Lunch! program\, please contact Savannah Ortega at sortega@jfsdesert.org or 760-325-4088 ext. 123 to register. \nWe look forward to seeing you there!
URL:https://jfsdesert.org/event/lets-do-lunch-at-cathedral-city-senior-center-3/2025-12-19/
LOCATION:Cathedral City Senior Center\, 37171 W Buddy Rogers Avenue\, Cathedral City\, CA\, 92234\, United States
CATEGORIES:Let's Do Lunch!
ATTACH;FMTTYPE=image/jpeg:https://jfsdesert.org/wp-content/uploads/2019/06/Image-Senior-Lunch-760-x-525.jpg
ORGANIZER;CN="Savannah Ortega":MAILTO:sortega@jfsdesert.org
END:VEVENT
BEGIN:VEVENT
DTSTART;TZID=America/Los_Angeles:20251205T123000
DTEND;TZID=America/Los_Angeles:20251205T143000
DTSTAMP:20260424T123236
CREATED:20230603T010052Z
LAST-MODIFIED:20260203T164907Z
UID:10000402-1764937800-1764945000@jfsdesert.org
SUMMARY:Let’s Do Lunch! at Cathedral City Senior Center
DESCRIPTION:Let’s Do Lunch! is a senior social activity program that encourages socialization through regularly scheduled “gatherings” where participants engage in a myriad of activities — lectures\, workshops\, art projects\, films\, brain games\, exercise\, and live entertainment. \nRegistration is required for the Let’s Do Lunch! program\, please contact Savannah Ortega at sortega@jfsdesert.org or 760-325-4088 ext. 123 to register. \nWe look forward to seeing you there!
URL:https://jfsdesert.org/event/lets-do-lunch-at-cathedral-city-senior-center-3/2025-12-05/
LOCATION:Cathedral City Senior Center\, 37171 W Buddy Rogers Avenue\, Cathedral City\, CA\, 92234\, United States
CATEGORIES:Let's Do Lunch!
ATTACH;FMTTYPE=image/jpeg:https://jfsdesert.org/wp-content/uploads/2019/06/Image-Senior-Lunch-760-x-525.jpg
ORGANIZER;CN="Savannah Ortega":MAILTO:sortega@jfsdesert.org
END:VEVENT
BEGIN:VEVENT
DTSTART;TZID=America/Los_Angeles:20251121T123000
DTEND;TZID=America/Los_Angeles:20251121T143000
DTSTAMP:20260424T123236
CREATED:20230603T010052Z
LAST-MODIFIED:20260203T164907Z
UID:10000401-1763728200-1763735400@jfsdesert.org
SUMMARY:Let’s Do Lunch! at Cathedral City Senior Center
DESCRIPTION:Let’s Do Lunch! is a senior social activity program that encourages socialization through regularly scheduled “gatherings” where participants engage in a myriad of activities — lectures\, workshops\, art projects\, films\, brain games\, exercise\, and live entertainment. \nRegistration is required for the Let’s Do Lunch! program\, please contact Savannah Ortega at sortega@jfsdesert.org or 760-325-4088 ext. 123 to register. \nWe look forward to seeing you there!
URL:https://jfsdesert.org/event/lets-do-lunch-at-cathedral-city-senior-center-3/2025-11-21/
LOCATION:Cathedral City Senior Center\, 37171 W Buddy Rogers Avenue\, Cathedral City\, CA\, 92234\, United States
CATEGORIES:Let's Do Lunch!
ATTACH;FMTTYPE=image/jpeg:https://jfsdesert.org/wp-content/uploads/2019/06/Image-Senior-Lunch-760-x-525.jpg
ORGANIZER;CN="Savannah Ortega":MAILTO:sortega@jfsdesert.org
END:VEVENT
BEGIN:VEVENT
DTSTART;TZID=America/Los_Angeles:20251107T123000
DTEND;TZID=America/Los_Angeles:20251107T143000
DTSTAMP:20260424T123236
CREATED:20230603T010052Z
LAST-MODIFIED:20260203T164907Z
UID:10000400-1762518600-1762525800@jfsdesert.org
SUMMARY:Let’s Do Lunch! at Cathedral City Senior Center
DESCRIPTION:Let’s Do Lunch! is a senior social activity program that encourages socialization through regularly scheduled “gatherings” where participants engage in a myriad of activities — lectures\, workshops\, art projects\, films\, brain games\, exercise\, and live entertainment. \nRegistration is required for the Let’s Do Lunch! program\, please contact Savannah Ortega at sortega@jfsdesert.org or 760-325-4088 ext. 123 to register. \nWe look forward to seeing you there!
URL:https://jfsdesert.org/event/lets-do-lunch-at-cathedral-city-senior-center-3/2025-11-07/
LOCATION:Cathedral City Senior Center\, 37171 W Buddy Rogers Avenue\, Cathedral City\, CA\, 92234\, United States
CATEGORIES:Let's Do Lunch!
ATTACH;FMTTYPE=image/jpeg:https://jfsdesert.org/wp-content/uploads/2019/06/Image-Senior-Lunch-760-x-525.jpg
ORGANIZER;CN="Savannah Ortega":MAILTO:sortega@jfsdesert.org
END:VEVENT
BEGIN:VEVENT
DTSTART;TZID=America/Los_Angeles:20251017T123000
DTEND;TZID=America/Los_Angeles:20251017T143000
DTSTAMP:20260424T123236
CREATED:20230603T010052Z
LAST-MODIFIED:20260203T164907Z
UID:10000399-1760704200-1760711400@jfsdesert.org
SUMMARY:Let’s Do Lunch! at Cathedral City Senior Center
DESCRIPTION:Let’s Do Lunch! is a senior social activity program that encourages socialization through regularly scheduled “gatherings” where participants engage in a myriad of activities — lectures\, workshops\, art projects\, films\, brain games\, exercise\, and live entertainment. \nRegistration is required for the Let’s Do Lunch! program\, please contact Savannah Ortega at sortega@jfsdesert.org or 760-325-4088 ext. 123 to register. \nWe look forward to seeing you there!
URL:https://jfsdesert.org/event/lets-do-lunch-at-cathedral-city-senior-center-3/2025-10-17/
LOCATION:Cathedral City Senior Center\, 37171 W Buddy Rogers Avenue\, Cathedral City\, CA\, 92234\, United States
CATEGORIES:Let's Do Lunch!
ATTACH;FMTTYPE=image/jpeg:https://jfsdesert.org/wp-content/uploads/2019/06/Image-Senior-Lunch-760-x-525.jpg
ORGANIZER;CN="Savannah Ortega":MAILTO:sortega@jfsdesert.org
END:VEVENT
BEGIN:VEVENT
DTSTART;TZID=America/Los_Angeles:20251003T123000
DTEND;TZID=America/Los_Angeles:20251003T143000
DTSTAMP:20260424T123236
CREATED:20230603T010052Z
LAST-MODIFIED:20260203T164907Z
UID:10000398-1759494600-1759501800@jfsdesert.org
SUMMARY:Let’s Do Lunch! at Cathedral City Senior Center
DESCRIPTION:Let’s Do Lunch! is a senior social activity program that encourages socialization through regularly scheduled “gatherings” where participants engage in a myriad of activities — lectures\, workshops\, art projects\, films\, brain games\, exercise\, and live entertainment. \nRegistration is required for the Let’s Do Lunch! program\, please contact Savannah Ortega at sortega@jfsdesert.org or 760-325-4088 ext. 123 to register. \nWe look forward to seeing you there!
URL:https://jfsdesert.org/event/lets-do-lunch-at-cathedral-city-senior-center-3/2025-10-03/
LOCATION:Cathedral City Senior Center\, 37171 W Buddy Rogers Avenue\, Cathedral City\, CA\, 92234\, United States
CATEGORIES:Let's Do Lunch!
ATTACH;FMTTYPE=image/jpeg:https://jfsdesert.org/wp-content/uploads/2019/06/Image-Senior-Lunch-760-x-525.jpg
ORGANIZER;CN="Savannah Ortega":MAILTO:sortega@jfsdesert.org
END:VEVENT
BEGIN:VEVENT
DTSTART;TZID=America/Los_Angeles:20250919T123000
DTEND;TZID=America/Los_Angeles:20250919T143000
DTSTAMP:20260424T123236
CREATED:20230603T010052Z
LAST-MODIFIED:20260203T164907Z
UID:10000397-1758285000-1758292200@jfsdesert.org
SUMMARY:Let’s Do Lunch! at Cathedral City Senior Center
DESCRIPTION:Let’s Do Lunch! is a senior social activity program that encourages socialization through regularly scheduled “gatherings” where participants engage in a myriad of activities — lectures\, workshops\, art projects\, films\, brain games\, exercise\, and live entertainment. \nRegistration is required for the Let’s Do Lunch! program\, please contact Savannah Ortega at sortega@jfsdesert.org or 760-325-4088 ext. 123 to register. \nWe look forward to seeing you there!
URL:https://jfsdesert.org/event/lets-do-lunch-at-cathedral-city-senior-center-3/2025-09-19/
LOCATION:Cathedral City Senior Center\, 37171 W Buddy Rogers Avenue\, Cathedral City\, CA\, 92234\, United States
CATEGORIES:Let's Do Lunch!
ATTACH;FMTTYPE=image/jpeg:https://jfsdesert.org/wp-content/uploads/2019/06/Image-Senior-Lunch-760-x-525.jpg
ORGANIZER;CN="Savannah Ortega":MAILTO:sortega@jfsdesert.org
END:VEVENT
BEGIN:VEVENT
DTSTART;TZID=America/Los_Angeles:20250905T123000
DTEND;TZID=America/Los_Angeles:20250905T143000
DTSTAMP:20260424T123236
CREATED:20230603T010052Z
LAST-MODIFIED:20260203T164907Z
UID:10000396-1757075400-1757082600@jfsdesert.org
SUMMARY:Let’s Do Lunch! at Cathedral City Senior Center
DESCRIPTION:Let’s Do Lunch! is a senior social activity program that encourages socialization through regularly scheduled “gatherings” where participants engage in a myriad of activities — lectures\, workshops\, art projects\, films\, brain games\, exercise\, and live entertainment. \nRegistration is required for the Let’s Do Lunch! program\, please contact Savannah Ortega at sortega@jfsdesert.org or 760-325-4088 ext. 123 to register. \nWe look forward to seeing you there!
URL:https://jfsdesert.org/event/lets-do-lunch-at-cathedral-city-senior-center-3/2025-09-05/
LOCATION:Cathedral City Senior Center\, 37171 W Buddy Rogers Avenue\, Cathedral City\, CA\, 92234\, United States
CATEGORIES:Let's Do Lunch!
ATTACH;FMTTYPE=image/jpeg:https://jfsdesert.org/wp-content/uploads/2019/06/Image-Senior-Lunch-760-x-525.jpg
ORGANIZER;CN="Savannah Ortega":MAILTO:sortega@jfsdesert.org
END:VEVENT
BEGIN:VEVENT
DTSTART;TZID=America/Los_Angeles:20230616T123000
DTEND;TZID=America/Los_Angeles:20230616T143000
DTSTAMP:20260424T123236
CREATED:20230509T063304Z
LAST-MODIFIED:20230509T063304Z
UID:10000015-1686918600-1686925800@jfsdesert.org
SUMMARY:Let’s Do Lunch at Cathedral City Senior Center
DESCRIPTION:Let’s Do Lunch! is a senior social activity program that encourages socialization through regularly scheduled “gatherings” where participants engage in a myriad of activities — lectures\, workshops\, art projects\, films\, brain games\, exercise\, and live entertainment. \nRegistration is required for the Let’s Do Lunch! program\, please contact Julie Hirsh at jhhirsh@jfsdesert.org or 760/325-4088 ext. 103 to register. \nWe look forward to seeing you there!
URL:https://jfsdesert.org/event/lets-do-lunch-at-cathedral-city-senior-center-2/
LOCATION:Cathedral City Senior Center\, 37171 W Buddy Rogers Avenue\, Cathedral City\, CA\, 92234\, United States
CATEGORIES:Let's Do Lunch!
ATTACH;FMTTYPE=image/jpeg:https://jfsdesert.org/wp-content/uploads/2019/07/Image-Senior-Lunch-760-x-525.jpg
ORGANIZER;CN="Julie Hirsh":MAILTO:jhhirsh@jfsdesert.org
END:VEVENT
BEGIN:VEVENT
DTSTART;TZID=America/Los_Angeles:20230519T123000
DTEND;TZID=America/Los_Angeles:20230519T143000
DTSTAMP:20260424T123236
CREATED:20230509T063016Z
LAST-MODIFIED:20230509T063111Z
UID:10000014-1684499400-1684506600@jfsdesert.org
SUMMARY:Let’s Do Lunch at Cathedral City Senior Center
DESCRIPTION:Let’s Do Lunch! is a senior social activity program that encourages socialization through regularly scheduled “gatherings” where participants engage in a myriad of activities — lectures\, workshops\, art projects\, films\, brain games\, exercise\, and live entertainment. \nRegistration is required for the Let’s Do Lunch! program\, please contact Julie Hirsh at jhhirsh@jfsdesert.org or 760/325-4088 ext. 103 to register. \nWe look forward to seeing you there!
URL:https://jfsdesert.org/event/lets-do-lunch-at-cathedral-city-senior-center/
LOCATION:Cathedral City Senior Center\, 37171 W Buddy Rogers Avenue\, Cathedral City\, CA\, 92234\, United States
CATEGORIES:Let's Do Lunch!
ATTACH;FMTTYPE=image/jpeg:https://jfsdesert.org/wp-content/uploads/2019/07/Image-Senior-Lunch-760-x-525.jpg
ORGANIZER;CN="Julie Hirsh":MAILTO:jhhirsh@jfsdesert.org
END:VEVENT
END:VCALENDAR