BEGIN:VCALENDAR
VERSION:2.0
PRODID:-//Jewish Family Service of the Desert - ECPv6.15.20//NONSGML v1.0//EN
CALSCALE:GREGORIAN
METHOD:PUBLISH
X-ORIGINAL-URL:https://jfsdesert.org
X-WR-CALDESC:Events for Jewish Family Service of the Desert
REFRESH-INTERVAL;VALUE=DURATION:PT1H
X-Robots-Tag:noindex
X-PUBLISHED-TTL:PT1H
BEGIN:VTIMEZONE
TZID:America/Los_Angeles
BEGIN:DAYLIGHT
TZOFFSETFROM:-0800
TZOFFSETTO:-0700
TZNAME:PDT
DTSTART:20240310T100000
END:DAYLIGHT
BEGIN:STANDARD
TZOFFSETFROM:-0700
TZOFFSETTO:-0800
TZNAME:PST
DTSTART:20241103T090000
END:STANDARD
BEGIN:DAYLIGHT
TZOFFSETFROM:-0800
TZOFFSETTO:-0700
TZNAME:PDT
DTSTART:20250309T100000
END:DAYLIGHT
BEGIN:STANDARD
TZOFFSETFROM:-0700
TZOFFSETTO:-0800
TZNAME:PST
DTSTART:20251102T090000
END:STANDARD
BEGIN:DAYLIGHT
TZOFFSETFROM:-0800
TZOFFSETTO:-0700
TZNAME:PDT
DTSTART:20260308T100000
END:DAYLIGHT
BEGIN:STANDARD
TZOFFSETFROM:-0700
TZOFFSETTO:-0800
TZNAME:PST
DTSTART:20261101T090000
END:STANDARD
END:VTIMEZONE
BEGIN:VEVENT
DTSTART;TZID=America/Los_Angeles:20251105T113000
DTEND;TZID=America/Los_Angeles:20251105T133000
DTSTAMP:20260424T192744
CREATED:20230603T010728Z
LAST-MODIFIED:20260203T041712Z
UID:10000446-1762342200-1762349400@jfsdesert.org
SUMMARY:Let’s Do Lunch! at Joslyn Center
DESCRIPTION:Let’s Do Lunch! is a senior social activity program that encourages socialization through regularly scheduled “gatherings” where participants engage in a myriad of activities — lectures\, workshops\, art projects\, films\, brain games\, exercise\, and live entertainment. \nRegistration is required for the Let’s Do Lunch! program\, please contact Savannah Ortega at sortega@jfsdesert.org or 760-325-4088 ext. 123 to register. \nWe look forward to seeing you there!
URL:https://jfsdesert.org/event/lets-do-lunch-at-joslyn-center-5/2025-11-05/
LOCATION:Joslyn Center\, 73-750 Catalina Way\, Palm Desert\, 92262\, United States
CATEGORIES:Let's Do Lunch!
ATTACH;FMTTYPE=image/jpeg:https://jfsdesert.org/wp-content/uploads/2020/11/LDL.jpg
ORGANIZER;CN="Savannah Ortega":MAILTO:sortega@jfsdesert.org
END:VEVENT
BEGIN:VEVENT
DTSTART;TZID=America/Los_Angeles:20251106T110000
DTEND;TZID=America/Los_Angeles:20251106T130000
DTSTAMP:20260424T192744
CREATED:20250815T035052Z
LAST-MODIFIED:20260203T165125Z
UID:10000442-1762426800-1762434000@jfsdesert.org
SUMMARY:Let’s Do Lunch! at Park David Senior Apartments
DESCRIPTION:Let’s Do Lunch! is a senior social activity program that encourages socialization through regularly scheduled “gatherings” where participants engage in a myriad of activities — lectures\, workshops\, art projects\, films\, brain games\, exercise\, and live entertainment. \nRegistration is required for the Let’s Do Lunch! program\, please contact Savannah Ortega at sortega@jfsdesert.org or 760-325-4088 ext. 123 to register. \nWe look forward to seeing you there!
URL:https://jfsdesert.org/event/lets-do-lunch-at-park-david-senior-apt/2025-11-06/
LOCATION:Park David Senior Apartments\, 27700 Landau Blvd\, Cathedral City\, CA\, 92234\, United States
CATEGORIES:Let's Do Lunch!
ATTACH;FMTTYPE=image/jpeg:https://jfsdesert.org/wp-content/uploads/2025/08/Senior-Park.jpg
ORGANIZER;CN="Savannah Ortega":MAILTO:sortega@jfsdesert.org
END:VEVENT
BEGIN:VEVENT
DTSTART;TZID=America/Los_Angeles:20251107T123000
DTEND;TZID=America/Los_Angeles:20251107T143000
DTSTAMP:20260424T192744
CREATED:20230603T010052Z
LAST-MODIFIED:20260203T164907Z
UID:10000400-1762518600-1762525800@jfsdesert.org
SUMMARY:Let’s Do Lunch! at Cathedral City Senior Center
DESCRIPTION:Let’s Do Lunch! is a senior social activity program that encourages socialization through regularly scheduled “gatherings” where participants engage in a myriad of activities — lectures\, workshops\, art projects\, films\, brain games\, exercise\, and live entertainment. \nRegistration is required for the Let’s Do Lunch! program\, please contact Savannah Ortega at sortega@jfsdesert.org or 760-325-4088 ext. 123 to register. \nWe look forward to seeing you there!
URL:https://jfsdesert.org/event/lets-do-lunch-at-cathedral-city-senior-center-3/2025-11-07/
LOCATION:Cathedral City Senior Center\, 37171 W Buddy Rogers Avenue\, Cathedral City\, CA\, 92234\, United States
CATEGORIES:Let's Do Lunch!
ATTACH;FMTTYPE=image/jpeg:https://jfsdesert.org/wp-content/uploads/2019/06/Image-Senior-Lunch-760-x-525.jpg
ORGANIZER;CN="Savannah Ortega":MAILTO:sortega@jfsdesert.org
END:VEVENT
BEGIN:VEVENT
DTSTART;TZID=America/Los_Angeles:20251111T120000
DTEND;TZID=America/Los_Angeles:20251111T140000
DTSTAMP:20260424T192744
CREATED:20250818T171643Z
LAST-MODIFIED:20260203T035633Z
UID:10000438-1762862400-1762869600@jfsdesert.org
SUMMARY:Let’s Do Lunch! at Desert Hot Springs Senior Center
DESCRIPTION:Let’s Do Lunch! is a senior social activity program that encourages socialization through regularly scheduled “gatherings” where participants engage in a myriad of activities — lectures\, workshops\, art projects\, films\, brain games\, exercise\, and live entertainment. \nRegistration is required for the Let’s Do Lunch! program\, please contact Savannah Ortega at sortega@jfsdesert.org or 760-325-4088 ext. 123 to register. \nWe look forward to seeing you there!
URL:https://jfsdesert.org/event/lets-do-lunch-at-desert-hot-springs-senior-center-8-3/2025-11-11/
LOCATION:Desert Hot Springs Senior Center\, 11777 West Drive\, Desert Hot Springs\, CA\, 92240\, United States
CATEGORIES:Let's Do Lunch!
ATTACH;FMTTYPE=image/png:https://jfsdesert.org/wp-content/uploads/2021/02/Senior-services.png
ORGANIZER;CN="Savannah Ortega":MAILTO:sortega@jfsdesert.org
END:VEVENT
BEGIN:VEVENT
DTSTART;TZID=America/Los_Angeles:20251112T100000
DTEND;TZID=America/Los_Angeles:20251112T120000
DTSTAMP:20260424T192744
CREATED:20250818T171450Z
LAST-MODIFIED:20260203T040944Z
UID:10000431-1762941600-1762948800@jfsdesert.org
SUMMARY:Let’s Do Lunch! at James O. Jessie Desert Highland Unity Center
DESCRIPTION:Let’s Do Lunch! is a senior social activity program that encourages socialization through regularly scheduled “gatherings” where participants engage in a myriad of activities — lectures\, workshops\, art projects\, films\, brain games\, exercise\, and live entertainment. \nRegistration is required for the Let’s Do Lunch! program\, please contact Savannah Ortega at sortega@jfsdesert.org or 760-325-4088 ext. 123 to register. \nWe look forward to seeing you there!
URL:https://jfsdesert.org/event/lets-do-lunch-at-james-o-jessie-desert-highland-unity-center-8-5/2025-11-12/
LOCATION:James O. Jessie Desert Highland Unity Center\, 480 W. Tramview Rd.\, Palm Springs\, 92262\, United States
CATEGORIES:Let's Do Lunch!
ATTACH;FMTTYPE=image/jpeg:https://jfsdesert.org/wp-content/uploads/2020/06/seniors-scaled.jpeg
ORGANIZER;CN="Savannah Ortega":MAILTO:sortega@jfsdesert.org
END:VEVENT
BEGIN:VEVENT
DTSTART;TZID=America/Los_Angeles:20251119T113000
DTEND;TZID=America/Los_Angeles:20251119T133000
DTSTAMP:20260424T192744
CREATED:20230603T010728Z
LAST-MODIFIED:20260203T041712Z
UID:10000447-1763551800-1763559000@jfsdesert.org
SUMMARY:Let’s Do Lunch! at Joslyn Center
DESCRIPTION:Let’s Do Lunch! is a senior social activity program that encourages socialization through regularly scheduled “gatherings” where participants engage in a myriad of activities — lectures\, workshops\, art projects\, films\, brain games\, exercise\, and live entertainment. \nRegistration is required for the Let’s Do Lunch! program\, please contact Savannah Ortega at sortega@jfsdesert.org or 760-325-4088 ext. 123 to register. \nWe look forward to seeing you there!
URL:https://jfsdesert.org/event/lets-do-lunch-at-joslyn-center-5/2025-11-19/
LOCATION:Joslyn Center\, 73-750 Catalina Way\, Palm Desert\, 92262\, United States
CATEGORIES:Let's Do Lunch!
ATTACH;FMTTYPE=image/jpeg:https://jfsdesert.org/wp-content/uploads/2020/11/LDL.jpg
ORGANIZER;CN="Savannah Ortega":MAILTO:sortega@jfsdesert.org
END:VEVENT
BEGIN:VEVENT
DTSTART;TZID=America/Los_Angeles:20251120T110000
DTEND;TZID=America/Los_Angeles:20251120T130000
DTSTAMP:20260424T192744
CREATED:20250815T035052Z
LAST-MODIFIED:20260203T165125Z
UID:10000443-1763636400-1763643600@jfsdesert.org
SUMMARY:Let’s Do Lunch! at Park David Senior Apartments
DESCRIPTION:Let’s Do Lunch! is a senior social activity program that encourages socialization through regularly scheduled “gatherings” where participants engage in a myriad of activities — lectures\, workshops\, art projects\, films\, brain games\, exercise\, and live entertainment. \nRegistration is required for the Let’s Do Lunch! program\, please contact Savannah Ortega at sortega@jfsdesert.org or 760-325-4088 ext. 123 to register. \nWe look forward to seeing you there!
URL:https://jfsdesert.org/event/lets-do-lunch-at-park-david-senior-apt/2025-11-20/
LOCATION:Park David Senior Apartments\, 27700 Landau Blvd\, Cathedral City\, CA\, 92234\, United States
CATEGORIES:Let's Do Lunch!
ATTACH;FMTTYPE=image/jpeg:https://jfsdesert.org/wp-content/uploads/2025/08/Senior-Park.jpg
ORGANIZER;CN="Savannah Ortega":MAILTO:sortega@jfsdesert.org
END:VEVENT
BEGIN:VEVENT
DTSTART;TZID=America/Los_Angeles:20251121T123000
DTEND;TZID=America/Los_Angeles:20251121T143000
DTSTAMP:20260424T192744
CREATED:20230603T010052Z
LAST-MODIFIED:20260203T164907Z
UID:10000401-1763728200-1763735400@jfsdesert.org
SUMMARY:Let’s Do Lunch! at Cathedral City Senior Center
DESCRIPTION:Let’s Do Lunch! is a senior social activity program that encourages socialization through regularly scheduled “gatherings” where participants engage in a myriad of activities — lectures\, workshops\, art projects\, films\, brain games\, exercise\, and live entertainment. \nRegistration is required for the Let’s Do Lunch! program\, please contact Savannah Ortega at sortega@jfsdesert.org or 760-325-4088 ext. 123 to register. \nWe look forward to seeing you there!
URL:https://jfsdesert.org/event/lets-do-lunch-at-cathedral-city-senior-center-3/2025-11-21/
LOCATION:Cathedral City Senior Center\, 37171 W Buddy Rogers Avenue\, Cathedral City\, CA\, 92234\, United States
CATEGORIES:Let's Do Lunch!
ATTACH;FMTTYPE=image/jpeg:https://jfsdesert.org/wp-content/uploads/2019/06/Image-Senior-Lunch-760-x-525.jpg
ORGANIZER;CN="Savannah Ortega":MAILTO:sortega@jfsdesert.org
END:VEVENT
BEGIN:VEVENT
DTSTART;TZID=America/Los_Angeles:20251125T120000
DTEND;TZID=America/Los_Angeles:20251125T140000
DTSTAMP:20260424T192744
CREATED:20250818T171643Z
LAST-MODIFIED:20260203T035633Z
UID:10000439-1764072000-1764079200@jfsdesert.org
SUMMARY:Let’s Do Lunch! at Desert Hot Springs Senior Center
DESCRIPTION:Let’s Do Lunch! is a senior social activity program that encourages socialization through regularly scheduled “gatherings” where participants engage in a myriad of activities — lectures\, workshops\, art projects\, films\, brain games\, exercise\, and live entertainment. \nRegistration is required for the Let’s Do Lunch! program\, please contact Savannah Ortega at sortega@jfsdesert.org or 760-325-4088 ext. 123 to register. \nWe look forward to seeing you there!
URL:https://jfsdesert.org/event/lets-do-lunch-at-desert-hot-springs-senior-center-8-3/2025-11-25/
LOCATION:Desert Hot Springs Senior Center\, 11777 West Drive\, Desert Hot Springs\, CA\, 92240\, United States
CATEGORIES:Let's Do Lunch!
ATTACH;FMTTYPE=image/png:https://jfsdesert.org/wp-content/uploads/2021/02/Senior-services.png
ORGANIZER;CN="Savannah Ortega":MAILTO:sortega@jfsdesert.org
END:VEVENT
BEGIN:VEVENT
DTSTART;TZID=America/Los_Angeles:20251126T100000
DTEND;TZID=America/Los_Angeles:20251126T120000
DTSTAMP:20260424T192744
CREATED:20250818T171450Z
LAST-MODIFIED:20260203T040944Z
UID:10000432-1764151200-1764158400@jfsdesert.org
SUMMARY:Let’s Do Lunch! at James O. Jessie Desert Highland Unity Center
DESCRIPTION:Let’s Do Lunch! is a senior social activity program that encourages socialization through regularly scheduled “gatherings” where participants engage in a myriad of activities — lectures\, workshops\, art projects\, films\, brain games\, exercise\, and live entertainment. \nRegistration is required for the Let’s Do Lunch! program\, please contact Savannah Ortega at sortega@jfsdesert.org or 760-325-4088 ext. 123 to register. \nWe look forward to seeing you there!
URL:https://jfsdesert.org/event/lets-do-lunch-at-james-o-jessie-desert-highland-unity-center-8-5/2025-11-26/
LOCATION:James O. Jessie Desert Highland Unity Center\, 480 W. Tramview Rd.\, Palm Springs\, 92262\, United States
CATEGORIES:Let's Do Lunch!
ATTACH;FMTTYPE=image/jpeg:https://jfsdesert.org/wp-content/uploads/2020/06/seniors-scaled.jpeg
ORGANIZER;CN="Savannah Ortega":MAILTO:sortega@jfsdesert.org
END:VEVENT
END:VCALENDAR